BEGIN:VCALENDAR
VERSION:2.0
PRODID:-//Arabikansojen Ystävyysseura (AKYS) - ECPv6.15.17//NONSGML v1.0//EN
CALSCALE:GREGORIAN
METHOD:PUBLISH
X-ORIGINAL-URL:https://akys.kapsi.fi/wordpress
X-WR-CALDESC:Tapahtumat Arabikansojen Ystävyysseura (AKYS)
REFRESH-INTERVAL;VALUE=DURATION:PT1H
X-Robots-Tag:noindex
X-PUBLISHED-TTL:PT1H
BEGIN:VTIMEZONE
TZID:UTC
BEGIN:STANDARD
TZOFFSETFROM:+0000
TZOFFSETTO:+0000
TZNAME:UTC
DTSTART:20250101T000000
END:STANDARD
END:VTIMEZONE
BEGIN:VEVENT
DTSTART;TZID=UTC:20260328T150000
DTEND;TZID=UTC:20260328T163000
DTSTAMP:20260419T235306
CREATED:20260324T190550Z
LAST-MODIFIED:20260324T190550Z
UID:6094-1774710000-1774715400@akys.kapsi.fi
SUMMARY:Mielenosoitus Helsingissä: NÄPIT IRTI IRANISTA - HANDS OFF IRAN!
DESCRIPTION:Kokoonnumme Senaatintorilla lauantaina 28.3.2026 kello 15 ja marssimme Kolmen sepän patsaalle \nJärjestäjä: Hands Off Iran (Finland)\nTukijat: PALCIF\, SUMUD Helsinki\, Vantaan Rauhanpuolustajat\, Arabikansojen ystävyysseura AKYS \nTodistamme jälleen yhtä Yhdysvaltain laitonta hyökkäystä läntisessä Aasiassa. Hyökkäyksen kohteena on yksi alueen harvoista maista\, joka ei ole täysin Yhdysvaltojen politiikan dominoima. Hyökkäyksen kohteena on yksi alueen harvoista maista\, joka tosiasissa vastusti Israelin kansanmurhaa Gazassa. \nYhdysvallat on perustellut Iranin pommittamista hallinnon vaihtamisella. Pommitukset kuitenkin vain synnyttävät epävakautta\, kuten on nähty esimerkiksi Afganistanissa tai Irakissa. Iranilaisilla on täysi oikeus päättää omasta tulevaisuudestaan itse. \nKun kaksi ydinasevaltiota\, USA ja Israel\, hyökkäävät Iranin kimppuun\, se on myös uhka ydinaseiden vastaiselle työlle. Tällainen hyökkäys ei edistä ydinaseriisuntaa tippaakaan. Päin vastoin: se luo vaarallisen tilanteen\, jossa ydinaseiden kehittäminen uhkaa levitä yhä uusiin valtioihin. Yhdysvaltojen ja Iranin väliset neuvottelut helmikuussa etenivät mediatietojen perusteella hyvin\, kunnes Yhdysvallat yllättäen vetäytyi neuvotteluista. Yhdysvallat: lopettakaa sota ja neuvotelkaa vilpittömästi. \nTällä hetkellä maailmassa on vallalla vaaralliset kaksoisstandardit. Yhdysvallat ja Israel liittolaisineen saavat iskeä toisiin maihin ilman\, että niiden toimia selvästi tuomitaan. Suomen tulee tuomita Yhdysvaltojen ja Israelin iskut Iraniin ja kieltäytyä kaikesta yhteistyöstä sotaan liittyen. Vaadimme EU-maita ja -kansalaisia tuomitsemaan tämän laittoman sodan ja käyttämään kaikki mahdolliset taloudelliset ja diplomaattiset keinot hyökkääjien painostamiseksi sodan lopettamiseksi ennen sen eskaloitumista. Hands off Iran -mielenosoitus edustaa selväjärkisyyttä\, joka ymmärtää tämän rosvouksen riskit\, vaatii sen lopettamista ja Yhdysvaltain ja Israelin sotakoneen pysäyttämistä\, jottei se synnyttäisi maailmaan uusia sotia. \nKyltit: Sodanvastaiset / USAn vastaiset / Sionismin vastaiset kyltit ovat tervetulleita. \n🔺 Tapahtumassa on läsnä poliisi valvomassa turvallisuutta. \n🚫 Rasistiset\, seksistiset tai muuten syrjivät symbolit ja iskulauseet eivät ole sallittuja.
URL:https://akys.kapsi.fi/wordpress/tapahtuma/mielenosoitus-helsingissa-napit-irti-iranista-hands-off-iran/
LOCATION:Kaivokatu\, Kaivokatu 8\, Helsinki\, 00100\, Finland
CATEGORIES:Mielenosoitus
END:VEVENT
END:VCALENDAR